BEGIN:VCALENDAR
VERSION:2.0
PRODID:-//EPIQ - ECPv6.15.17.1//NONSGML v1.0//EN
CALSCALE:GREGORIAN
METHOD:PUBLISH
X-WR-CALNAME:EPIQ
X-ORIGINAL-URL:https://www.epiq.ca
X-WR-CALDESC:Events for EPIQ
REFRESH-INTERVAL;VALUE=DURATION:PT1H
X-Robots-Tag:noindex
X-PUBLISHED-TTL:PT1H
BEGIN:VTIMEZONE
TZID:America/Toronto
BEGIN:DAYLIGHT
TZOFFSETFROM:-0500
TZOFFSETTO:-0400
TZNAME:EDT
DTSTART:20240310T070000
END:DAYLIGHT
BEGIN:STANDARD
TZOFFSETFROM:-0400
TZOFFSETTO:-0500
TZNAME:EST
DTSTART:20241103T060000
END:STANDARD
BEGIN:DAYLIGHT
TZOFFSETFROM:-0500
TZOFFSETTO:-0400
TZNAME:EDT
DTSTART:20250309T070000
END:DAYLIGHT
BEGIN:STANDARD
TZOFFSETFROM:-0400
TZOFFSETTO:-0500
TZNAME:EST
DTSTART:20251102T060000
END:STANDARD
BEGIN:DAYLIGHT
TZOFFSETFROM:-0500
TZOFFSETTO:-0400
TZNAME:EDT
DTSTART:20260308T070000
END:DAYLIGHT
BEGIN:STANDARD
TZOFFSETFROM:-0400
TZOFFSETTO:-0500
TZNAME:EST
DTSTART:20261101T060000
END:STANDARD
END:VTIMEZONE
BEGIN:VEVENT
DTSTART;TZID=America/Toronto:20250208T150000
DTEND;TZID=America/Toronto:20250210T130000
DTSTAMP:20260422T204821
CREATED:20250113T163222Z
LAST-MODIFIED:20250113T164015Z
UID:3132-1739026800-1739192400@www.epiq.ca
SUMMARY:EPIQ Conference
DESCRIPTION:A two-day event where experts from across the country will discuss the latest advancements in quality improvement and innovative practices in healthcare aimed at improving neonatal and maternal outcomes.\nLearn more about the conference
URL:https://www.epiq.ca/event/epiq-conference-3/
LOCATION:Hôtel Bonaventure\, 900 Rue De la Gauchetière Ouest\, Montreal\, Quebec\, H5A 1E4\, Canada
END:VEVENT
END:VCALENDAR