BEGIN:VCALENDAR
VERSION:2.0
PRODID:-//EPIQ - ECPv6.15.17.1//NONSGML v1.0//EN
CALSCALE:GREGORIAN
METHOD:PUBLISH
X-WR-CALNAME:EPIQ
X-ORIGINAL-URL:https://www.epiq.ca
X-WR-CALDESC:Events for EPIQ
REFRESH-INTERVAL;VALUE=DURATION:PT1H
X-Robots-Tag:noindex
X-PUBLISHED-TTL:PT1H
BEGIN:VTIMEZONE
TZID:America/Toronto
BEGIN:DAYLIGHT
TZOFFSETFROM:-0500
TZOFFSETTO:-0400
TZNAME:EDT
DTSTART:20240310T070000
END:DAYLIGHT
BEGIN:STANDARD
TZOFFSETFROM:-0400
TZOFFSETTO:-0500
TZNAME:EST
DTSTART:20241103T060000
END:STANDARD
BEGIN:DAYLIGHT
TZOFFSETFROM:-0500
TZOFFSETTO:-0400
TZNAME:EDT
DTSTART:20250309T070000
END:DAYLIGHT
BEGIN:STANDARD
TZOFFSETFROM:-0400
TZOFFSETTO:-0500
TZNAME:EST
DTSTART:20251102T060000
END:STANDARD
BEGIN:DAYLIGHT
TZOFFSETFROM:-0500
TZOFFSETTO:-0400
TZNAME:EDT
DTSTART:20260308T070000
END:DAYLIGHT
BEGIN:STANDARD
TZOFFSETFROM:-0400
TZOFFSETTO:-0500
TZNAME:EST
DTSTART:20261101T060000
END:STANDARD
END:VTIMEZONE
BEGIN:VEVENT
DTSTART;TZID=America/Toronto:20250924T130000
DTEND;TZID=America/Toronto:20250924T140000
DTSTAMP:20260422T102439
CREATED:20250903T190907Z
LAST-MODIFIED:20250904T140434Z
UID:3602-1758718800-1758722400@www.epiq.ca
SUMMARY:EPIQ Grand Rounds Session 29: ‘Delivery Room cuddles for extremely low birthweight babies: A model of care’
DESCRIPTION:Speakers: Drs. Paul Clarke and Paul Cawley\nEPIQ Grand Rounds Session 29 (poster)
URL:https://www.epiq.ca/event/epiq-grand-rounds-session-29-delivery-room-cuddles-for-extremely-low-birthweight-babies-a-model-of-care/
END:VEVENT
END:VCALENDAR