BEGIN:VCALENDAR
VERSION:2.0
PRODID:-//EPIQ - ECPv6.15.17.1//NONSGML v1.0//EN
CALSCALE:GREGORIAN
METHOD:PUBLISH
X-WR-CALNAME:EPIQ
X-ORIGINAL-URL:https://www.epiq.ca
X-WR-CALDESC:Events for EPIQ
REFRESH-INTERVAL;VALUE=DURATION:PT1H
X-Robots-Tag:noindex
X-PUBLISHED-TTL:PT1H
BEGIN:VTIMEZONE
TZID:America/Toronto
BEGIN:DAYLIGHT
TZOFFSETFROM:-0500
TZOFFSETTO:-0400
TZNAME:EDT
DTSTART:20240310T070000
END:DAYLIGHT
BEGIN:STANDARD
TZOFFSETFROM:-0400
TZOFFSETTO:-0500
TZNAME:EST
DTSTART:20241103T060000
END:STANDARD
BEGIN:DAYLIGHT
TZOFFSETFROM:-0500
TZOFFSETTO:-0400
TZNAME:EDT
DTSTART:20250309T070000
END:DAYLIGHT
BEGIN:STANDARD
TZOFFSETFROM:-0400
TZOFFSETTO:-0500
TZNAME:EST
DTSTART:20251102T060000
END:STANDARD
BEGIN:DAYLIGHT
TZOFFSETFROM:-0500
TZOFFSETTO:-0400
TZNAME:EDT
DTSTART:20260308T070000
END:DAYLIGHT
BEGIN:STANDARD
TZOFFSETFROM:-0400
TZOFFSETTO:-0500
TZNAME:EST
DTSTART:20261101T060000
END:STANDARD
END:VTIMEZONE
BEGIN:VEVENT
DTSTART;TZID=America/Toronto:20250925T130000
DTEND;TZID=America/Toronto:20250925T140000
DTSTAMP:20260422T102458
CREATED:20250903T191019Z
LAST-MODIFIED:20250904T163743Z
UID:3605-1758805200-1758808800@www.epiq.ca
SUMMARY:Lung Health Outcome Group Meeting
DESCRIPTION:Co-chaired by Amit Mukherji & Brooke Read
URL:https://www.epiq.ca/event/lung-health-outcome-group-meeting/
END:VEVENT
END:VCALENDAR