BEGIN:VCALENDAR
VERSION:2.0
PRODID:-//EPIQ - ECPv6.15.17.1//NONSGML v1.0//EN
CALSCALE:GREGORIAN
METHOD:PUBLISH
X-WR-CALNAME:EPIQ
X-ORIGINAL-URL:https://www.epiq.ca
X-WR-CALDESC:Events for EPIQ
REFRESH-INTERVAL;VALUE=DURATION:PT1H
X-Robots-Tag:noindex
X-PUBLISHED-TTL:PT1H
BEGIN:VTIMEZONE
TZID:America/Toronto
BEGIN:DAYLIGHT
TZOFFSETFROM:-0500
TZOFFSETTO:-0400
TZNAME:EDT
DTSTART:20240310T070000
END:DAYLIGHT
BEGIN:STANDARD
TZOFFSETFROM:-0400
TZOFFSETTO:-0500
TZNAME:EST
DTSTART:20241103T060000
END:STANDARD
BEGIN:DAYLIGHT
TZOFFSETFROM:-0500
TZOFFSETTO:-0400
TZNAME:EDT
DTSTART:20250309T070000
END:DAYLIGHT
BEGIN:STANDARD
TZOFFSETFROM:-0400
TZOFFSETTO:-0500
TZNAME:EST
DTSTART:20251102T060000
END:STANDARD
BEGIN:DAYLIGHT
TZOFFSETFROM:-0500
TZOFFSETTO:-0400
TZNAME:EDT
DTSTART:20260308T070000
END:DAYLIGHT
BEGIN:STANDARD
TZOFFSETFROM:-0400
TZOFFSETTO:-0500
TZNAME:EST
DTSTART:20261101T060000
END:STANDARD
END:VTIMEZONE
BEGIN:VEVENT
DTSTART;TZID=America/Toronto:20250906T100000
DTEND;TZID=America/Toronto:20250906T173000
DTSTAMP:20260422T090535
CREATED:20250618T181621Z
LAST-MODIFIED:20250618T183430Z
UID:3474-1757152800-1757179800@www.epiq.ca
SUMMARY:Global EPIQ Workshop
DESCRIPTION:Global Health EPIQ Virtual Workshop\n• Date & Time: Saturday\, September 6\, 2025 | 10:00 AM – 5:30 PM EDT\n• Mode of Delivery: Zoom Platform (Virtual)\n• Facilitators: Majeeda Kamaluddeen\, University of Calgary\nDoug McMillan \, Dalhousie University/ IWK Health\n• Target Audience: Physicians\, nurses\, and allied health professionals interested in improving newborn care globally. \nRegistration Fee:\n• $55 CAD for attendees from high- and high-middle-income countries\n• No fee for attendees from low-middle-income countries or conflict zones (self-declared) \nRegistration:\n• Website Page: Global EPIQ\n• Registration Form: Global EPIQ Virtual Workshop\n• Deadline: August 15\, 2025
URL:https://www.epiq.ca/event/global-epiq-workshop/
END:VEVENT
BEGIN:VEVENT
DTSTART;TZID=America/Toronto:20250909T130000
DTEND;TZID=America/Toronto:20250909T140000
DTSTAMP:20260422T090535
CREATED:20250730T195053Z
LAST-MODIFIED:20250730T195053Z
UID:3538-1757422800-1757426400@www.epiq.ca
SUMMARY:EPIQ Grand Rounds Session 27: “Skin Care and Skin Injury Prevention in ELGA”
DESCRIPTION:Speaker: Jeanne Scotland\nEPIQ Grand Rounds Session 27 (poster)
URL:https://www.epiq.ca/event/epiq-grand-rounds-session-27-skin-care-and-skin-injury-prevention-in-elga/
END:VEVENT
BEGIN:VEVENT
DTSTART;TZID=America/Toronto:20250910T120000
DTEND;TZID=America/Toronto:20250910T130000
DTSTAMP:20260422T090535
CREATED:20250808T183149Z
LAST-MODIFIED:20250808T183504Z
UID:3553-1757505600-1757509200@www.epiq.ca
SUMMARY:IPAS Outcome Group Meeting
DESCRIPTION:Co-chaired by Joseph Ting and Claire Hamilton
URL:https://www.epiq.ca/event/ipas-outcome-group-meeting/
END:VEVENT
BEGIN:VEVENT
DTSTART;TZID=America/Toronto:20250922T130000
DTEND;TZID=America/Toronto:20250922T140000
DTSTAMP:20260422T090535
CREATED:20250918T183011Z
LAST-MODIFIED:20250918T183011Z
UID:3616-1758546000-1758549600@www.epiq.ca
SUMMARY:Family Engagement (Parents- Partner) Outcome Group meeting
DESCRIPTION:Co-chaired by Dr. Jessica Duby\, Dr. Marsha Campbell-Yeo & Fabiana Bacchini
URL:https://www.epiq.ca/event/family-engagement-parents-partner-outcome-group-meeting/
END:VEVENT
BEGIN:VEVENT
DTSTART;TZID=America/Toronto:20250923T110000
DTEND;TZID=America/Toronto:20250923T120000
DTSTAMP:20260422T090535
CREATED:20250808T183246Z
LAST-MODIFIED:20250808T183558Z
UID:3555-1758625200-1758628800@www.epiq.ca
SUMMARY:Gut Health Outcome Group Meeting
DESCRIPTION:Co-chaired by Belal Alshaikh and Ali McBryde
URL:https://www.epiq.ca/event/gut-health-outcome-group-meeting/
END:VEVENT
BEGIN:VEVENT
DTSTART;TZID=America/Toronto:20250924T130000
DTEND;TZID=America/Toronto:20250924T140000
DTSTAMP:20260422T090535
CREATED:20250903T190907Z
LAST-MODIFIED:20250904T140434Z
UID:3602-1758718800-1758722400@www.epiq.ca
SUMMARY:EPIQ Grand Rounds Session 29: ‘Delivery Room cuddles for extremely low birthweight babies: A model of care’
DESCRIPTION:Speakers: Drs. Paul Clarke and Paul Cawley\nEPIQ Grand Rounds Session 29 (poster)
URL:https://www.epiq.ca/event/epiq-grand-rounds-session-29-delivery-room-cuddles-for-extremely-low-birthweight-babies-a-model-of-care/
END:VEVENT
BEGIN:VEVENT
DTSTART;TZID=America/Toronto:20250925T130000
DTEND;TZID=America/Toronto:20250925T140000
DTSTAMP:20260422T090535
CREATED:20250903T191019Z
LAST-MODIFIED:20250904T163743Z
UID:3605-1758805200-1758808800@www.epiq.ca
SUMMARY:Lung Health Outcome Group Meeting
DESCRIPTION:Co-chaired by Amit Mukherji & Brooke Read
URL:https://www.epiq.ca/event/lung-health-outcome-group-meeting/
END:VEVENT
END:VCALENDAR